BEGIN:VCALENDAR
VERSION:2.0
PRODID:-//Epstein Family Amphitheater - ECPv6.6.4.2//NONSGML v1.0//EN
CALSCALE:GREGORIAN
METHOD:PUBLISH
X-WR-CALNAME:Epstein Family Amphitheater
X-ORIGINAL-URL:https://amphitheater.ucsd.edu
X-WR-CALDESC:Events for Epstein Family Amphitheater
REFRESH-INTERVAL;VALUE=DURATION:PT1H
X-Robots-Tag:noindex
X-PUBLISHED-TTL:PT1H
BEGIN:VTIMEZONE
TZID:America/Denver
BEGIN:DAYLIGHT
TZOFFSETFROM:-0700
TZOFFSETTO:-0600
TZNAME:MDT
DTSTART:20260308T090000
END:DAYLIGHT
BEGIN:STANDARD
TZOFFSETFROM:-0600
TZOFFSETTO:-0700
TZNAME:MST
DTSTART:20261101T080000
END:STANDARD
TZID:UTC
BEGIN:STANDARD
TZOFFSETFROM:+0000
TZOFFSETTO:+0000
TZNAME:UTC
DTSTART:20260101T000000
END:STANDARD
END:VTIMEZONE
BEGIN:VEVENT
DTSTART;TZID=America/Denver:20260423T190000
DTEND;TZID=America/Denver:20260423T190000
DTSTAMP:20260423T182221
CREATED:20260226T004201Z
LAST-MODIFIED:20260410T214705Z
UID:10000836-1776970800-1776970800@amphitheater.ucsd.edu
SUMMARY:Choir! Choir! Choir!
DESCRIPTION:“Why see a show when you can BE the show!?” \nChoir! Choir! Choir! is the fully interactive\, participatory show that turns audience into performer! So get ready to laugh\, dance and SING! your hearts out with hundreds of other music-lovers just like you. It’s like a big birthday party for the greatest songs of all time and you’re invited! \nSo grab a friend (or ten)\, and come out ready to GIVE IT ALL YOU’VE GOT! – all voices welcome\, no experience necessary. They Teach\, You Sing! Everyone Wins! \nPresented as part of La Jolla Playhouse’s WOW Festival\, ArtPower proudly welcomes back Choir! Choir! Choir! for not one\, not two\, but three incredible performances—each one completely unique. \nSchedule\nThursday\, April 23 at 7 pm: We Will Choir! You!: An Epic Rock Sing-Along!\nTHEY TEACH\, YOU SING! Choir! Choir! Choir! land at WOW Festival for the first of three events that will transform you and your crew into ROCK GODS! Daveed Goldman and Nobu Adilman rapidly turn audiences into perfectly sounding choirs with humor and harmony\, whether you’re a seasoned singer or prefer to solo in the shower. This time the dynamic duo will take you on a tour of the most EPIC rock songs ever written. Will you be singing Queen\, Bon Jovi\, Journey? You have to show up to find out but just know the set is full bangers from the 70s\, 80s\, and 90s!!! So warm up those vocal cords\, gather your besties (of all ages!)\, and get set to belt like you’re headlining Wembley Stadium! #NeverStopSinging \nFriday\, April 24 at 7:20 pm: Take a Walk on the Choir! Side\nJoin Choir! Choir! Choir! for a magical\, musical\, sunset stroll through campus\, singing songs about community\, friendship\, and love. Think Ben E. King’s Stand By Me\, something from The Beatles catalog or even The Proclaimers’ 500 Miles! Three iconic stops\, one unforgettable journey: kick things off at Warren Mall at the base of the Snake Path\, make your way to the Triton Statue\, and finish with the whole glorious group taking the stage together at the Epstein Family Amphitheater. Pick up new friends along the way\, sing your hearts out\, and let the good vibes carry you into the sunset. No rehearsal needed—just show up and follow the music. (This route covers approximately 0.5 miles along a flat\, ADA-accessible path.) #NeverStopSinging \nSaturday\, April 25 at 4:30 pm: Pink Pony Choir!: An EPIC Gen Z’ing-Along!\nSaddle up\, Superstars—this one shines a light on music by Gen Z artists but as always\, Choir! Choir! Choir! is for the whole family! Join Daveed Goldman and Nobu Adilman for a joyful\, feel-good singalong featuring the biggest hits from Chappell Roan to Taylor Swift\, KPop Demon Hunters\, Sabrina Carpenter\, Olivia Rodrigo\, Miley Cyrus and more! Whether you’re 8 or 80\, this is your moment to shine. Sing out loud\, sing out proud\, and share the magic with the family and friends who mean the most to you. #NeverStopSinging
URL:https://amphitheater.ucsd.edu/event/choir-choir-choir-04232026/
CATEGORIES:FESTIVAL,MUSIC
ATTACH;FMTTYPE=image/jpeg:https://amphitheater.ucsd.edu/wp-content/uploads/2026/04/CCC-rock-webhero.jpg
END:VEVENT
BEGIN:VEVENT
DTSTART;TZID=America/Denver:20260424T192000
DTEND;TZID=America/Denver:20260424T192000
DTSTAMP:20260423T182221
CREATED:20260226T004525Z
LAST-MODIFIED:20260410T214732Z
UID:10000837-1777058400-1777058400@amphitheater.ucsd.edu
SUMMARY:Choir! Choir! Choir!
DESCRIPTION:“Why see a show when you can BE the show!?” \nChoir! Choir! Choir! is the fully interactive\, participatory show that turns audience into performer! So get ready to laugh\, dance and SING! your hearts out with hundreds of other music-lovers just like you. It’s like a big birthday party for the greatest songs of all time and you’re invited! \nSo grab a friend (or ten)\, and come out ready to GIVE IT ALL YOU’VE GOT! – all voices welcome\, no experience necessary. They Teach\, You Sing! Everyone Wins! \nPresented as part of La Jolla Playhouse’s WOW Festival\, ArtPower proudly welcomes back Choir! Choir! Choir! for not one\, not two\, but three incredible performances—each one completely unique. \nSchedule\nThursday\, April 23 at 7 pm: We Will Choir! You!: An Epic Rock Sing-Along!\nTHEY TEACH\, YOU SING! Choir! Choir! Choir! land at WOW Festival for the first of three events that will transform you and your crew into ROCK GODS! Daveed Goldman and Nobu Adilman rapidly turn audiences into perfectly sounding choirs with humor and harmony\, whether you’re a seasoned singer or prefer to solo in the shower. This time the dynamic duo will take you on a tour of the most EPIC rock songs ever written. Will you be singing Queen\, Bon Jovi\, Journey? You have to show up to find out but just know the set is full bangers from the 70s\, 80s\, and 90s!!! So warm up those vocal cords\, gather your besties (of all ages!)\, and get set to belt like you’re headlining Wembley Stadium! #NeverStopSinging \nFriday\, April 24 at 7:20 pm: Take a Walk on the Choir! Side\nJoin Choir! Choir! Choir! for a magical\, musical\, sunset stroll through campus\, singing songs about community\, friendship\, and love. Think Ben E. King’s Stand By Me\, something from The Beatles catalog or even The Proclaimers’ 500 Miles! Three iconic stops\, one unforgettable journey: kick things off at Warren Mall at the base of the Snake Path\, make your way to the Triton Statue\, and finish with the whole glorious group taking the stage together at the Epstein Family Amphitheater. Pick up new friends along the way\, sing your hearts out\, and let the good vibes carry you into the sunset. No rehearsal needed—just show up and follow the music. (This route covers approximately 0.5 miles along a flat\, ADA-accessible path.) #NeverStopSinging \nSaturday\, April 25 at 4:30 pm: Pink Pony Choir!: An EPIC Gen Z’ing-Along!\nSaddle up\, Superstars—this one shines a light on music by Gen Z artists but as always\, Choir! Choir! Choir! is for the whole family! Join Daveed Goldman and Nobu Adilman for a joyful\, feel-good singalong featuring the biggest hits from Chappell Roan to Taylor Swift\, KPop Demon Hunters\, Sabrina Carpenter\, Olivia Rodrigo\, Miley Cyrus and more! Whether you’re 8 or 80\, this is your moment to shine. Sing out loud\, sing out proud\, and share the magic with the family and friends who mean the most to you. #NeverStopSinging
URL:https://amphitheater.ucsd.edu/event/choir-choir-choir-04242026/
CATEGORIES:FESTIVAL,MUSIC
ATTACH;FMTTYPE=image/jpeg:https://amphitheater.ucsd.edu/wp-content/uploads/2026/04/CCC-choirside-webhero.jpg
END:VEVENT
BEGIN:VEVENT
DTSTART;TZID=America/Denver:20260425T163000
DTEND;TZID=America/Denver:20260425T163000
DTSTAMP:20260423T182221
CREATED:20260226T004614Z
LAST-MODIFIED:20260410T214749Z
UID:10000838-1777134600-1777134600@amphitheater.ucsd.edu
SUMMARY:Choir! Choir! Choir!
DESCRIPTION:“Why see a show when you can BE the show!?” \nChoir! Choir! Choir! is the fully interactive\, participatory show that turns audience into performer! So get ready to laugh\, dance and SING! your hearts out with hundreds of other music-lovers just like you. It’s like a big birthday party for the greatest songs of all time and you’re invited! \nSo grab a friend (or ten)\, and come out ready to GIVE IT ALL YOU’VE GOT! – all voices welcome\, no experience necessary. They Teach\, You Sing! Everyone Wins! \nPresented as part of La Jolla Playhouse’s WOW Festival\, ArtPower proudly welcomes back Choir! Choir! Choir! for not one\, not two\, but three incredible performances—each one completely unique. \nSchedule\nThursday\, April 23 at 7 pm: We Will Choir! You!: An Epic Rock Sing-Along!\nTHEY TEACH\, YOU SING! Choir! Choir! Choir! land at WOW Festival for the first of three events that will transform you and your crew into ROCK GODS! Daveed Goldman and Nobu Adilman rapidly turn audiences into perfectly sounding choirs with humor and harmony\, whether you’re a seasoned singer or prefer to solo in the shower. This time the dynamic duo will take you on a tour of the most EPIC rock songs ever written. Will you be singing Queen\, Bon Jovi\, Journey? You have to show up to find out but just know the set is full bangers from the 70s\, 80s\, and 90s!!! So warm up those vocal cords\, gather your besties (of all ages!)\, and get set to belt like you’re headlining Wembley Stadium! #NeverStopSinging \nFriday\, April 24 at 7:20 pm: Take a Walk on the Choir! Side\nJoin Choir! Choir! Choir! for a magical\, musical\, sunset stroll through campus\, singing songs about community\, friendship\, and love. Think Ben E. King’s Stand By Me\, something from The Beatles catalog or even The Proclaimers’ 500 Miles! Three iconic stops\, one unforgettable journey: kick things off at Warren Mall at the base of the Snake Path\, make your way to the Triton Statue\, and finish with the whole glorious group taking the stage together at the Epstein Family Amphitheater. Pick up new friends along the way\, sing your hearts out\, and let the good vibes carry you into the sunset. No rehearsal needed—just show up and follow the music. (This route covers approximately 0.5 miles along a flat\, ADA-accessible path.) #NeverStopSinging \nSaturday\, April 25 at 4:30 pm: Pink Pony Choir!: An EPIC Gen Z’ing-Along!\nSaddle up\, Superstars—this one shines a light on music by Gen Z artists but as always\, Choir! Choir! Choir! is for the whole family! Join Daveed Goldman and Nobu Adilman for a joyful\, feel-good singalong featuring the biggest hits from Chappell Roan to Taylor Swift\, KPop Demon Hunters\, Sabrina Carpenter\, Olivia Rodrigo\, Miley Cyrus and more! Whether you’re 8 or 80\, this is your moment to shine. Sing out loud\, sing out proud\, and share the magic with the family and friends who mean the most to you. #NeverStopSinging
URL:https://amphitheater.ucsd.edu/event/choir-choir-choir-04252026/
CATEGORIES:MUSIC
ATTACH;FMTTYPE=image/jpeg:https://amphitheater.ucsd.edu/wp-content/uploads/2026/04/CCC-pinkpony-webhero.jpg
END:VEVENT
BEGIN:VEVENT
DTSTART;TZID=America/Denver:20260429T190000
DTEND;TZID=America/Denver:20260429T190000
DTSTAMP:20260423T182221
CREATED:20250622T024629Z
LAST-MODIFIED:20250622T024629Z
UID:10000789-1777489200-1777489200@amphitheater.ucsd.edu
SUMMARY:Camila Fernández
DESCRIPTION:Camila Fernández has established herself as an unstoppable force in the Mexican regional genre. Her undeniable talent and passion for music have led her to become the lone female voice of the Fernández Dynasty. Born on November 30\, 1997\, in Guadalajara\, Jalisco\, Mexico\, Camila’s love for music was evident from her earliest days. At the tender age of four\, her powerful voice and stage presence impressed everyone on every stage she graced\, whether it was in musical theater\, school choirs\, religious pageants\, or performances. Her destiny was clear: music was her path. \nHer musical influences encompass icons like her grandfather Vicente Fernández\, her father Alejandro Fernández\, Juan Gabriel\, Rocío Dúrcal\, José Alfredo Jiménez\, and Eugenia de León\, who have left an indelible mark on her style and passion for music. \nHer new album\, “Camila Fernández\,” includes 20 tracks\, with 10 original songs and 10 covers\, all connected by the theme of love in its various forms. Camila penned 9 of the original songs\, demonstrating her creative ambition and deep commitment to her music.This creative ambition is reflected in the musical development of her new album\, which evokes the nostalgia of Mexican mariachi and the sonic innovation of the 21st century. Camila is an artist with a promising future\, capable of reinventing the past through her ranchera passion conveyed in every verse. \nThanks to her unique qualities\, Camila Fernández is undeniably the best representative of the new Mexican regional music: a revolutionary woman who blends the best of multiple worlds to create an authentic and distinct style. Her music is a gift for Mexican music enthusiasts and an inspiration for future generations. \n\nMariachi Continental de San Diego is San Diego’s premiere Mariachi.
URL:https://amphitheater.ucsd.edu/event/camila-fernandez/
CATEGORIES:MUSIC
ATTACH;FMTTYPE=image/png:https://amphitheater.ucsd.edu/wp-content/uploads/2025/06/camilafernandez-hero.png
END:VEVENT
BEGIN:VEVENT
DTSTART;TZID=America/Denver:20260506T190000
DTEND;TZID=America/Denver:20260506T190000
DTSTAMP:20260423T182221
CREATED:20250622T024601Z
LAST-MODIFIED:20260408T161056Z
UID:10000788-1778094000-1778094000@amphitheater.ucsd.edu
SUMMARY:Meshell Ndegeocello
DESCRIPTION:Opener: Deejay Dandelion\nPraised by the New Yorker as “the most significant bassist this country has produced since the advent of Charles Mingus and Flea\,” Meshell Ndegeocello makes her ArtPower debut with her GRAMMY-winning album No More Water: The Gospel of James Baldwin. \nThe prescience of James Baldwin is alive nearly forty years after his passing\, a testament to his enduring impact. A prolific writer\, his essays\, novels\, plays\, and poetry have assessed and often reproached the human condition. As an activist\, his oratory prowess in the 1960s was bar none\, lending his outspoken views on Black oppression with profundity and eloquence. Born in New York City on August 2\, 1924\, this year marks the centennial of the eminent writer\, a momentous occasion that is celebrated by the release of one of Meshell Ndegeocello’s most intrepid efforts to date: No More Water: The Gospel Of James Baldwin. \nWith No More Water\, Ndegeocello embarks on a prophetic musical odyssey that transcends boundaries and genres\, delving headfirst into race\, sexuality\, religion\, and other recurring themes explored in the celebrated writer’s canon. Following 2023’s The Omnichord Real Book\, her acclaimed debut for Blue Note Records which won the inaugural GRAMMY Award for Best Alternative Jazz Album\, the multi-instrumentalist\, singer\, songwriter\, and producer renders an immersive and palpable document that is as sagacious\, unabashed\, and introspective as Baldwin was in life.
URL:https://amphitheater.ucsd.edu/event/meshell-ndegeocello/
CATEGORIES:MUSIC
ATTACH;FMTTYPE=image/png:https://amphitheater.ucsd.edu/wp-content/uploads/2025/06/meshellndegeocello-hero.png
END:VEVENT
BEGIN:VEVENT
DTSTART;TZID=UTC:20260517T163000
DTEND;TZID=UTC:20260517T163000
DTSTAMP:20260423T182221
CREATED:20260317T234919Z
LAST-MODIFIED:20260401T195225Z
UID:10000839-1779035400-1779035400@amphitheater.ucsd.edu
SUMMARY:San Diego Academy of Ballet's Spring Gala 2026
DESCRIPTION:San Diego Academy of Ballet’s Spring Gala harnesses the full spectrum of the best of ballet in a single show—young dancers training at SDAB alongside seasoned professionals performing at the highest level. The program blends beloved excerpts from the classical ballet repertoire with original works created specifically for SDAB\, offering audiences a dynamic mix of tradition and new choreography. \n\nThe Spring Gala celebrates the training\, creativity\, and dedication that define San Diego Academy of Ballet’s ethos\, while giving the community an opportunity to experience ballet performed with both youthful enthusiasm and professional excellence. 🩰
URL:https://amphitheater.ucsd.edu/event/sdab_gala2026/
CATEGORIES:DANCE,RENTAL
ATTACH;FMTTYPE=image/png:https://amphitheater.ucsd.edu/wp-content/uploads/2026/03/WebHero.png
END:VEVENT
BEGIN:VEVENT
DTSTART;TZID=America/Denver:20260530T200000
DTEND;TZID=America/Denver:20260530T200000
DTSTAMP:20260423T182221
CREATED:20250622T024534Z
LAST-MODIFIED:20250622T024534Z
UID:10000787-1780171200-1780171200@amphitheater.ucsd.edu
SUMMARY:An Evening with Kishi Bashi
DESCRIPTION:Join us for an evening with Kishi Bashi\, the genre-defying violinist\, composer\, and indie pop visionary whose dazzling live performances and heartfelt songs have earned him international acclaim and a devoted following.
URL:https://amphitheater.ucsd.edu/event/kishi-bashi/
CATEGORIES:MUSIC
ATTACH;FMTTYPE=image/png:https://amphitheater.ucsd.edu/wp-content/uploads/2025/06/kishi-bashi-hero.png
END:VEVENT
BEGIN:VEVENT
DTSTART;TZID=America/Denver:20260730T190000
DTEND;TZID=America/Denver:20260730T190000
DTSTAMP:20260423T182221
CREATED:20260416T161936Z
LAST-MODIFIED:20260416T190145Z
UID:10000841-1785438000-1785438000@amphitheater.ucsd.edu
SUMMARY:aja monet | the color of rain
DESCRIPTION:The writer and community organizer offers up a fluid mix of jazz and poetry that evokes the spirit of 1990s spoken-word scenes.”—New York Times \nSurrealist blues poet aja monet returns to ArtPower with the color of rain — a waking-dream intervention for a world on the edge of fascism. \nCo-produced with Justin Brown and Meshell Ndegeocello\, the album moves fluidly across jazz\, soul\, hip-hop\, and R&B\, refusing category or definition. Rather than laying poetry over fixed arrangements\, monet works in close conversation with the music—shaping phrasing\, cadence\, and tone as each composition breathes and shifts. \nAn evolution from her GRAMMY-nominated debut when the poems do what they do\, this sophomore album reaches deeper—conjuring experiment\, interiority\, and the Black Arts Movement’s living legacy. If the first album was a gentle altar call\, the color of rain is an impassioned call to arms. Choose your weapon wisely. The pen is the sword—and music sharpens the blade. \n  \nCommunity Partner: Future Is Color
URL:https://amphitheater.ucsd.edu/event/aja-monet-the-color-of-rain/
CATEGORIES:MUSIC
ATTACH;FMTTYPE=image/jpeg:https://amphitheater.ucsd.edu/wp-content/uploads/2026/04/aja-web-hero.jpg
END:VEVENT
BEGIN:VEVENT
DTSTART;TZID=America/Denver:20260925T193000
DTEND;TZID=America/Denver:20260925T193000
DTSTAMP:20260423T182221
CREATED:20260331T162509Z
LAST-MODIFIED:20260403T170952Z
UID:10000840-1790364600-1790364600@amphitheater.ucsd.edu
SUMMARY:Ghostbusters in Concert
DESCRIPTION:Experience the beloved 1984 classic film like never before\, with the music performed on stage by an orchestra. Audience members will enjoy the ultimate movie concert experience as Ghostbusters is presented on a large HD cinema screen\, fully synced to a live performance of Academy Award®-winning composer Elmer Berstein’s spine-tingling score.
URL:https://amphitheater.ucsd.edu/event/ghostbusters-in-concert/
CATEGORIES:FILM,MUSIC
ATTACH;FMTTYPE=image/jpeg:https://amphitheater.ucsd.edu/wp-content/uploads/2026/03/ghostbusters-webhero.jpg
END:VEVENT
BEGIN:VEVENT
DTSTART;TZID=America/Denver:20261024T190000
DTEND;TZID=America/Denver:20261024T190000
DTSTAMP:20260423T182221
CREATED:20260120T171725Z
LAST-MODIFIED:20260123T174828Z
UID:10000834-1792868400-1792868400@amphitheater.ucsd.edu
SUMMARY:Julian Lage Quartet feat. John Medeski\, Jorge Roeder\, Kenny Wollesen
DESCRIPTION:In the waning days of 2024\, Julian Lage began what he calls a writing sprint. Lage has long been prolific: In the three decades since the documentary Jules at Eight identified him as a prodigy\, Lage has made a dozen records with his own bands and duos\, and three times that many with leading lights of his artistic orbit\, like John Zorn\, Gary Burton\, and Charles Lloyd. But Lage was preparing for a four-day residency at SFJAZZ\, plus the premiere of a new quartet of old collaborators and friends who had strangely never recorded together: Lage with steadfast bassist Jorge Roeder\, dynamic drummer Kenny Wollesen\, and vaunted keyboardist John Medeski. As he thought about their qualities as players and hypothesized about how they might interact\, he set a timer for 20 minutes\, wrote a tune\, recorded it once\, and then began again. \n  \nLage called one particular tune he loved during that sprint\, “Storyville.” It’s quick\, flickering riff felt like an invitation for conversation\, exactly the kind of thing he hopes to find in such a sprint. “My dream with composing\, really\, is to have something to talk about once we’re together\,” he says. “It’s not the end-all\, be-all.” Hearing what the quartet created with the piece in the studio is like watching a pot of water boil and observing not the chaos but the order\, the way every molecule is pushing against the other with purpose. \nThat is the spirit of Scenes from Above\, Lage’s second full-length album with the producer Joe Henry and his first with this striking quartet. Where 2024’s Speak to Me was Lage’s grand statement as an improvising bandleader capable of helming a relatively large ensemble through a diverse set of tunes\, Scenes from Above is about being a band member himself\, about Lage exploring the tunes he has written with a crew he has built with that entirely in mind. Its nine tracks frame a brilliantly open experience\, with four astounding players giving and taking space in equal measure as they explore these songs in one space\, in real time. \n“Neither of us were interested in making Speak to Me II. That record has its own character\, and there’s a great liberation in that\,” says Henry. “That was an idea that exists\, and we don’t have to babysit it any longer.” \nAfter his assorted writing sprints\, Lage had already whittled down the possibilities to maybe 50 pieces from perhaps twice that many. He began sending selections to Henry\, and they talked about four or five that felt like essential pieces of this frame. Then they wondered about how they might add color and motion to that picture\, less about what was missing and more about what felt important for this band to emphasize. \nAlso\, Lage was in a deep period of thinking about what he calls folkloric music\, from the songs of Susana Baca and early calypso numbers to the American blues and Béla Bartók’s integration of Romanian and Hungarian tunes into his own work. His writing reflected those touchstones. And as the two-day session at New York’s Sear Sound began to near\, he also thought about texture and timbre\, about how he could use his instrument to avoid the familiar terrain and potential pitfalls of the guitar trio-plus-organ configuration. By choosing an acoustic guitar rather than an electric on a particular tune\, for instance\, could he lure Medeski into unexpected spaces? \n“Keyboards are often a drag — we play too many notes. I can play a lot of notes\, too\,” Medeski says\, laughing. “Julian really thinks about things\, has a lot of intention. But it’s a beautiful combination of caring about the concept and direction and of being free and in the moment.” \nScenes from Above radiates both qualities in tandem. Opener “Opal” is a gorgeous invocation\, Lage’s thoughtful and patient lead unfurling beneath a rhythmic bed so rich and supportive it feels like cultivated terra firma. Wollesen and Roeder gallop slowly and steadily as Medeski and Lage exchange thoughts\, subtle shifts in the organ’s hum and glow prompting the guitarist to move in unexpected directions. The quartet sizzles during “Talking Drum\,” Medeski stabs his organ between the beat until he lifts up to ride alongside Lage and\, as it were\, discuss the melody. There is\, as Lage had hoped\, plenty to talk about. It is as close as Scenes from Above gets to groove and jam\, but there is a gleeful resistance to it\, too\, of never sitting still with a solo or rhythm. They get into the idea and get out\, too excited by what may still happen to belabor anything they’ve already found. \nBy the time they reach the end of “Something More\,” this quartet is a band that has instantly found its rapport. Sad and sweet\, this feels like a four-part prayer\, a shared wish for better days ahead. That they handle a song like this with such finesse and warmth on a first or second take\, as with every track on Scenes from Above\, remains a testament to the concept\, to freedom\, and\, between them both\, to trust. \n“I came in with a desire to present this as an egalitarian thing\, rather than ‘I’m the leader — let’s build something around me\,’” Lage confirms. “This is music that’s connected to our own growth and development individually and within our relationships with one another\, with no sense that anybody’s expecting anything.” \nIn spite of the caliber of players on Scenes from Above\, the tracks hover around the four-minute mark\, the result of the restraint they felt in a studio where they could play quietly and still be heard. The exception\, though\, is “Night Shade\,” the album’s exquisite seven-minute centerpiece\, suffused with a Medeski organ run that feels like gospel gold and a series of Lage solos that suggest brilliantly gestural blues. But is it really an exception? Listen again and notice the many instances in which the music crests like a wave\, about to crack open into something that resembles chaos. But they hold steady there both times\, both to be heard and to hear others. That is what makes Scenes from Above so poignant and timely — four dazzling instrumentalists in a room\, talking to one another but never actually over one another.
URL:https://amphitheater.ucsd.edu/event/julian-lage-quartet/
CATEGORIES:MUSIC
ATTACH;FMTTYPE=image/jpeg:https://amphitheater.ucsd.edu/wp-content/uploads/2026/01/julianlage-webhero.jpg
END:VEVENT
END:VCALENDAR